BEGIN:VCALENDAR
VERSION:2.0
PRODID:-//ChamberMaster//Event Calendar 2.0//EN
METHOD:PUBLISH
X-PUBLISHED-TTL:P3D
REFRESH-INTERVAL:P3D
CALSCALE:GREGORIAN
BEGIN:VEVENT
DTSTART:20260306T140000Z
DTEND:20260308T200000Z
X-MICROSOFT-CDO-ALLDAYEVENT:FALSE
SUMMARY:Weeki Wachee Swamp Fest
DESCRIPTION:Weeki Wachee Swamp Fest Family friendly arts and crafts event with food and music Linda Peterson Park 6300 Shoal Line Blvd Weeki Wachee FL 34607
X-ALT-DESC;FMTTYPE=text/html:Weeki Wachee Swamp Fest Family friendly arts and crafts event with food and music Linda Peterson Park 6300 Shoal Line Blvd Weeki Wachee FL 34607
LOCATION:Linda Peterson Park 6300 Shoal Line Blvd Weeki Wachee FL 34607
UID:e.2235.37371
SEQUENCE:3
DTSTAMP:20260421T103033Z
URL:https://business.hernandochamber.com/events/details/weeki-wachee-swamp-fest-03-06-2026-37371
END:VEVENT

END:VCALENDAR
