BEGIN:VCALENDAR
VERSION:2.0
PRODID:-//ChamberMaster//Event Calendar 2.0//EN
METHOD:PUBLISH
X-PUBLISHED-TTL:P3D
REFRESH-INTERVAL:P3D
CALSCALE:GREGORIAN
BEGIN:VEVENT
DTSTART:20241109T160000Z
DTEND:20241109T220000Z
X-MICROSOFT-CDO-ALLDAYEVENT:FALSE
SUMMARY:Tunnel To Towers Brooksville 5K and Veterans Music Festival
DESCRIPTION:Tunnels 2 Towers Run/Walk event on November 9\, 2024\, in Brooksville\, which raises funds for the Tunnel to Towers Foundation. This foundation honors the legacy of firefighter Stephen Siller\, who died saving lives on September 11\, 2001\, and supports military personnel and first responders who sacrifice for the country. The event includes a 5K run/walk through down town Brooksville\, and registration is open until race day. Participants can also donate or create fundraising pages. After the race\, attendees can visit the 9/11 NEVER FORGET Mobile Exhibit\, a traveling memorial that educates the public about 9/11. The Foundation has delivered over 1\,000 mortgage-free homes to veterans and first responders\, with plans to continue expanding its support. The Veterans Music Festival directly follows the 5k. Enjoy free kids zones\, two stages with bands all day\, and loads of vendors!
X-ALT-DESC;FMTTYPE=text/html:Tunnels 2 Towers Run/Walk event on November 9\, 2024\, in Brooksville\, which raises funds for the Tunnel to Towers Foundation. This foundation honors the legacy of firefighter Stephen Siller\, who died saving lives on September 11\, 2001\, and supports military personnel and first responders who sacrifice for the country. The event includes a 5K run/walk through down town Brooksville\, and registration is open until race day. Participants can also donate or create fundraising pages. After the race\, attendees can visit the 9/11 NEVER FORGET Mobile Exhibit\, a traveling memorial that educates the public about 9/11. The Foundation has delivered over 1\,000 mortgage-free homes to veterans and first responders\, with plans to continue expanding its support. The Veterans Music Festival directly follows the 5k. Enjoy free kids zones\, two stages with bands all day\, and loads of vendors!
LOCATION:Hernando Park Fort Dade Ave 205 E Fort Dade Ave\, Brooksville\, United States and Main street Brooksville
UID:e.2235.35546
SEQUENCE:3
DTSTAMP:20260423T230516Z
URL:https://business.hernandochamber.com/events/details/tunnel-to-towers-brooksville-5k-and-veterans-music-festival-35546
END:VEVENT

END:VCALENDAR
