BEGIN:VCALENDAR
VERSION:2.0
PRODID:-//ChamberMaster//Event Calendar 2.0//EN
METHOD:PUBLISH
X-PUBLISHED-TTL:P3D
REFRESH-INTERVAL:P3D
CALSCALE:GREGORIAN
BEGIN:VEVENT
DTSTART:20181027T120000Z
DTEND:20181027T190000Z
X-MICROSOFT-CDO-ALLDAYEVENT:FALSE
SUMMARY:Trick or Treating at the Market
DESCRIPTION:Come join us at the Market for some Halloween fun! Costume contest for all ages to be held at the stage around NOON\, pets welcome to participate as well! Candy will be handed out by each vendor who participates. "Find the Market Zombie" will be 10 Flyers posted around the Market\, each winner will get a prize at the office! Face Painting and Balloon Making to be at the Market as well!
X-ALT-DESC;FMTTYPE=text/html:Come join us at the Market for some Halloween fun! Costume contest for all ages to be held at the stage around NOON\, pets welcome to participate as well! Candy will be handed out by each vendor who participates. &quot\;Find the Market Zombie&quot\; will be 10 Flyers posted around the Market\, each winner will get a prize at the office! Face Painting and Balloon Making to be at the Market as well!
LOCATION:17375 Spring Hill Drive Brooksville\, FL 34604
UID:e.2235.22911
SEQUENCE:3
DTSTAMP:20260423T050104Z
URL:https://business.hernandochamber.com/events/details/trick-or-treating-at-the-market-22911
END:VEVENT

END:VCALENDAR
