BEGIN:VCALENDAR
VERSION:2.0
PRODID:-//ChamberMaster//Event Calendar 2.0//EN
METHOD:PUBLISH
X-PUBLISHED-TTL:P3D
REFRESH-INTERVAL:P3D
CALSCALE:GREGORIAN
BEGIN:VEVENT
DTSTART:20250115T170000Z
DTEND:20250115T180000Z
X-MICROSOFT-CDO-ALLDAYEVENT:FALSE
SUMMARY:The DripBar Brooksville Ribbon Cutting
DESCRIPTION:Join us for a Ribbon Cutting to celebrate The DripBar Brooksville on their Grand Opening. The Ribbon Cutting will be held on January 15th\, 2025 at 12:00PM. Location: 13136 Cortez Blvd Brooksville\, FL 34613
X-ALT-DESC;FMTTYPE=text/html:Join us for a Ribbon Cutting to celebrate The DripBar Brooksville on their Grand Opening. The Ribbon Cutting will be held on January 15th\, 2025 at 12:00PM. Location: 13136 Cortez Blvd Brooksville\, FL 34613
LOCATION:13136 Cortez Blvd Brooksville\, FL 34613
UID:e.2235.35696
SEQUENCE:3
DTSTAMP:20260426T033312Z
URL:https://business.hernandochamber.com/events/details/the-dripbar-brooksville-ribbon-cutting-35696
END:VEVENT

END:VCALENDAR
