BEGIN:VCALENDAR
VERSION:2.0
PRODID:-//ChamberMaster//Event Calendar 2.0//EN
METHOD:PUBLISH
X-PUBLISHED-TTL:P3D
REFRESH-INTERVAL:P3D
CALSCALE:GREGORIAN
BEGIN:VEVENT
DTSTART:20220423T200000Z
DTEND:20220423T220000Z
X-MICROSOFT-CDO-ALLDAYEVENT:FALSE
SUMMARY:RIBBON CUTTING - Tampa Bay Retired K-9 Foundation
DESCRIPTION:Join us for the Ribbon Cutting Celebration for Tampa Bay Retired Police K-9 Foundation!
X-ALT-DESC;FMTTYPE=text/html:Join us for the Ribbon Cutting Celebration for Tampa Bay Retired Police K-9 Foundation!
LOCATION:Once Upon a Vine 13185 Spring Hill Drive
UID:e.2235.31174
SEQUENCE:3
DTSTAMP:20260425T231439Z
URL:https://business.hernandochamber.com/events/details/ribbon-cutting-tampa-bay-retired-k-9-foundation-31174
END:VEVENT

END:VCALENDAR
