BEGIN:VCALENDAR
VERSION:2.0
PRODID:-//ChamberMaster//Event Calendar 2.0//EN
METHOD:PUBLISH
X-PUBLISHED-TTL:P3D
REFRESH-INTERVAL:P3D
CALSCALE:GREGORIAN
BEGIN:VEVENT
DTSTART:20260417T160000Z
DTEND:20260417T170000Z
X-MICROSOFT-CDO-ALLDAYEVENT:FALSE
SUMMARY:Ribbon Cutting for Autism Everywhere
DESCRIPTION:Join us for a Ribbon Cutting Ceremony to Celebrate Autism Everywhere as a new Chamber Member! The Ribbon Cutting will be located at 13814 Linden Dr\, Spring Hill\, FL 34609 on April 17th\, 2026 at 12:00PM.
X-ALT-DESC;FMTTYPE=text/html:Join us for a Ribbon Cutting Ceremony to Celebrate Autism Everywhere as a new Chamber Member! The Ribbon Cutting will be located at 13814 Linden Dr\, Spring Hill\, FL 34609 on April 17th\, 2026 at 12:00PM.
LOCATION:located at 13814 Linden Dr\, Spring Hill\, FL 34609
UID:e.2235.37448
SEQUENCE:3
DTSTAMP:20260421T114121Z
URL:https://business.hernandochamber.com/events/details/ribbon-cutting-for-autism-everywhere-37448
END:VEVENT

END:VCALENDAR
