BEGIN:VCALENDAR
VERSION:2.0
PRODID:-//ChamberMaster//Event Calendar 2.0//EN
METHOD:PUBLISH
X-PUBLISHED-TTL:P3D
REFRESH-INTERVAL:P3D
CALSCALE:GREGORIAN
BEGIN:VEVENT
DTSTART:20190917T130000Z
DTEND:20190917T140000Z
X-MICROSOFT-CDO-ALLDAYEVENT:FALSE
SUMMARY:Operation Outreach Committee
DESCRIPTION:Operation Outreach Committee - join us as we plan visits to our members.  Great opportunity to network with other businesses!!
X-ALT-DESC;FMTTYPE=text/html:Operation Outreach Committee - join us as we plan visits to our members.&nbsp\; Great opportunity to network with other businesses!!
LOCATION:Greater Hernando County Chamber of Commerce 15588 Aviation Loop Drive Brooksville
UID:e.2235.24523
SEQUENCE:3
DTSTAMP:20260419T190705Z
URL:https://business.hernandochamber.com/events/details/operation-outreach-committee-09-17-2019-24523
END:VEVENT

END:VCALENDAR
