BEGIN:VCALENDAR
VERSION:2.0
PRODID:-//ChamberMaster//Event Calendar 2.0//EN
METHOD:PUBLISH
X-PUBLISHED-TTL:P3D
REFRESH-INTERVAL:P3D
CALSCALE:GREGORIAN
BEGIN:VEVENT
DTSTART;VALUE=DATE:20200120
DTEND;VALUE=DATE:20200121
TRANSP:TRANSPARENT
X-MICROSOFT-CDO-ALLDAYEVENT:TRUE
SUMMARY:NO BROOKSVILLE B2B THIS WEEK!!
DESCRIPTION:Due to Martin Luther King\, Jr. Holiday there will be NO BROOKSVILLE B2B this week!!
X-ALT-DESC;FMTTYPE=text/html:Due to Martin Luther King\, Jr. Holiday there will be NO BROOKSVILLE B2B this week!!
LOCATION:
UID:e.2235.27516
SEQUENCE:3
DTSTAMP:20260421T134504Z
URL:https://business.hernandochamber.com/events/details/no-brooksville-b2b-this-week-27516
END:VEVENT

END:VCALENDAR
