BEGIN:VCALENDAR
VERSION:2.0
PRODID:-//ChamberMaster//Event Calendar 2.0//EN
METHOD:PUBLISH
X-PUBLISHED-TTL:P3D
REFRESH-INTERVAL:P3D
CALSCALE:GREGORIAN
BEGIN:VEVENT
DTSTART:20260923T111500Z
DTEND:20260923T130000Z
X-MICROSOFT-CDO-ALLDAYEVENT:FALSE
SUMMARY:MONTHLY MEMBERSHIP MEETING - September 2026
DESCRIPTION:September Monthly Membership Meeting\n\n\n\n\n\n\n\nWe hope you join us!\n\n\n\nThis breakfast\, sponsored by Creative Environmental Solutions\, will take place on Wednesday\, September 23\, 2026.\nCost to Attend:\n\nPre-paid + pre-registered Members: $25 per person \n\n\n	Pre-registration closes at 1 p.m. on the Tuesday before\n\nNon-Members + those not pre-registered: $35 per person
X-ALT-DESC;FMTTYPE=text/html:<span style="color: rgb(0\, 0\, 0)\;"><span style="font-size: 14px\;"><span style="font-family: arial\;">September Monthly Membership Meeting<br />\n<br />\n<br />\n<br />\n<strong><em>We hope you join us!</em></strong></span></span></span><br />\n<br />\n<span style="color: rgb(178\, 34\, 34)\;"><span style="font-family: arial\; font-size: 14px\;">This breakfast\, sponsored by Creative Environmental Solutions\, will take place on Wednesday\, September 23\, 2026.</span></span>\n<p style="box-sizing: border-box\; margin: 0px 0px 1rem\; outline: 0px\; color: rgb(102\, 102\, 102)\; font-family: Montserrat\, sans-serif\;"><span style="box-sizing: border-box\; outline: 0px\; color: rgb(0\, 0\, 0)\;"><span style="box-sizing: border-box\; outline: 0px\; font-size: 16px\;"><span style="box-sizing: border-box\; outline: 0px\; font-family: arial\, sans-serif\;"><u style="box-sizing: border-box\;">Cost to Attend</u>:<br style="box-sizing: border-box\;" />\nPre-paid + pre-registered Members: $25&nbsp\;per person&nbsp\;</span></span></span></p>\n\n<ul style="box-sizing: border-box\; margin-top: 0px\; margin-bottom: 1rem\; color: rgb(102\, 102\, 102)\; font-family: Montserrat\, sans-serif\;">\n	<li style="box-sizing: border-box\; margin: 0px\;"><span style="box-sizing: border-box\; color: rgb(0\, 0\, 0)\;"><span style="box-sizing: border-box\; font-size: 16px\;"><span style="box-sizing: border-box\; font-family: arial\, sans-serif\;"><em style="box-sizing: border-box\;">Pre-registration closes at 1 p.m. on the Tuesday before</em></span></span></span></li>\n</ul>\n<span style="box-sizing: border-box\; font-family: Montserrat\, sans-serif\; color: rgb(0\, 0\, 0)\;"><span style="box-sizing: border-box\; font-size: 16px\;"><span style="box-sizing: border-box\; font-family: arial\, sans-serif\;">Non-Members + those not pre-registered: $35 per person</span></span></span>
LOCATION:Southern Hills Plantation Club 4200 Summit View Dr. Brooksville\, FL 34601
UID:e.2235.36806
SEQUENCE:3
DTSTAMP:20260425T153810Z
URL:https://business.hernandochamber.com/events/details/monthly-membership-meeting-september-2026-36806
END:VEVENT

END:VCALENDAR
