BEGIN:VCALENDAR
VERSION:2.0
PRODID:-//ChamberMaster//Event Calendar 2.0//EN
METHOD:PUBLISH
X-PUBLISHED-TTL:P3D
REFRESH-INTERVAL:P3D
CALSCALE:GREGORIAN
BEGIN:VEVENT
DTSTART:20261216T121500Z
DTEND:20261216T140000Z
X-MICROSOFT-CDO-ALLDAYEVENT:FALSE
SUMMARY:MONTHLY MEMBERSHIP MEETING - December 2026
DESCRIPTION:December Monthly Membership Meeting- SPECIAL HOLIDAY BREAKFAST!\n\n \n\nWe hope you join us!\n\n\n\nThis special holiday breakfast\, sponsored ( to be determined ) will take place on Wednesday\, December 16\, 2026.
X-ALT-DESC;FMTTYPE=text/html:<br />\n<br />\n<span style="color: rgb(0\, 0\, 0)\;"><span style="font-size: 14px\;"><span style="font-family: arial\;">December Monthly Membership Meeting- SPECIAL HOLIDAY BREAKFAST!<br />\n&nbsp\;<br />\n<strong><em>We hope you join us!</em></strong></span></span></span><br />\n<br />\n<span style="color: rgb(178\, 34\, 34)\;"><span style="font-family: arial\; font-size: 14px\;">This special holiday breakfast\, sponsored ( to be determined ) will take place on Wednesday\, December 16\, 2026.</span></span>
LOCATION:* LOCATION * to be determined
UID:e.2235.36803
SEQUENCE:3
DTSTAMP:20260425T195053Z
URL:https://business.hernandochamber.com/events/details/monthly-membership-meeting-december-2026-36803
END:VEVENT

END:VCALENDAR
