BEGIN:VCALENDAR
VERSION:2.0
PRODID:-//ChamberMaster//Event Calendar 2.0//EN
METHOD:PUBLISH
X-PUBLISHED-TTL:P3D
REFRESH-INTERVAL:P3D
CALSCALE:GREGORIAN
BEGIN:VEVENT
DTSTART:20221209T230000Z
DTEND:20221210T030000Z
X-MICROSOFT-CDO-ALLDAYEVENT:FALSE
SUMMARY:Friday Night Live
DESCRIPTION:Friday Night Live\n2nd Friday of Each Month
X-ALT-DESC;FMTTYPE=text/html:<h1 class="eventlist-title preFade fadeIn" style="font-family: cubano\; letter-spacing: -0.01em\; color: rgb(0\, 65\, 75)\; transition: opacity 0.9s ease 0.0949153s\; font-size: 28px !important\; margin: 0px 0px 17px !important\; line-height: 1.2em !important\; padding: 0px !important\; opacity: 1 !important\;"><a class="eventlist-title-link" href="https://www.welovebvl.org/events/fnl-sep-2022" style="background: transparent\; cursor: pointer\; color: inherit !important\; text-decoration-line: none !important\; margin: 0px !important\; padding: 0px !important\; font-size: inherit !important\; line-height: inherit !important\;">Friday Night Live</a></h1>\n2nd Friday of Each Month
LOCATION:Hernando Park
UID:e.2235.31919
SEQUENCE:3
DTSTAMP:20260420T025656Z
URL:https://business.hernandochamber.com/events/details/friday-night-live-12-09-2022-31919
END:VEVENT

END:VCALENDAR
