BEGIN:VCALENDAR
VERSION:2.0
PRODID:-//ChamberMaster//Event Calendar 2.0//EN
METHOD:PUBLISH
X-PUBLISHED-TTL:P3D
REFRESH-INTERVAL:P3D
CALSCALE:GREGORIAN
BEGIN:VEVENT
DTSTART:20240907T163000Z
DTEND:20240907T170000Z
X-MICROSOFT-CDO-ALLDAYEVENT:FALSE
SUMMARY:Florida Wildlife Corridor Mural Sign Unveiling
DESCRIPTION:Florida Wildlife Corridor Mural Sign Unveiling\n\n\n\nThis unveiling ceremony will be held on Saturday\, Sept 7th at 12:30pm in front of City Hall in downtown Brooksville. This unveiling ceremony is part of a statewide Mural Campaign that brings attention to the Florida Wildlife Corridor\, particularing the Brooksville area which is a top priority for Corridor conservation.\n\nThe mural was painted by Ocala artist Justin Alsedek and features animals and plants found in the Corridor. He added some things specific to the "Brooksville Ridge" area\, including:\n\n	The Osceola Turkey\n	The Brooksville Bellflower   an endangered plant only found in this area and the official flower of Brooksville And a nod to the Tangerine\, the official fruit of Brooksville due to its historic contribution to the economic prosperity of Brooksville.\n	It also points to the fact that the Wildlife Corridor continues to be a powerhouse for Florida's economy.\n\nThe sign will include a QR code that directs you to the Florida Wildlife Corridor Foundation's website\, where you can learn more about Brooksville's importance in the Corridor and the animals and plants featured in the mural. Here is a link to the Brooksville Mural website. Keeping It Wild (shorthandstories.com)
X-ALT-DESC;FMTTYPE=text/html:<u><strong>Florida Wildlife Corridor Mural Sign Unveiling</strong></u><br />\n<br />\nThis unveiling ceremony will be held on Saturday\, Sept 7th at 12:30pm in front of City Hall in downtown Brooksville. This unveiling ceremony is part of a statewide Mural Campaign that brings attention to the Florida Wildlife Corridor\, particularing the Brooksville area which is a top priority for Corridor conservation.<br />\nThe mural was painted by Ocala artist Justin Alsedek and features animals and plants found in the Corridor. He added some things specific to the &ldquo\;Brooksville Ridge&rdquo\; area\, including:\n<ul>\n	<li>The Osceola Turkey</li>\n	<li>The Brooksville Bellflower &ndash\; an endangered plant only found in this area and the official flower of Brooksville And a nod to the Tangerine\, the official fruit of Brooksville due to its historic contribution to the economic prosperity of Brooksville.</li>\n	<li>It also points to the fact that the Wildlife Corridor continues to be a powerhouse for Florida&rsquo\;s economy.</li>\n</ul>\nThe sign will include a QR code that directs you to the Florida Wildlife Corridor Foundation&#39\;s website\, where you can learn more about Brooksville&rsquo\;s importance in the Corridor and the animals and plants featured in the mural. Here is a link to the Brooksville Mural website.&nbsp\;<a href="https://fl-wildlife-corridor-foundation.shorthandstories.com/keeping-it-wild/index.html">Keeping It Wild (shorthandstories.com)</a>
LOCATION:City Hall in downtown Brooksville 201 Howell Ave\, Brooksville\, FL 34601
UID:e.2235.35549
SEQUENCE:3
DTSTAMP:20260425T131436Z
URL:https://business.hernandochamber.com/events/details/florida-wildlife-corridor-mural-sign-unveiling-35549
END:VEVENT

END:VCALENDAR
