BEGIN:VCALENDAR
VERSION:2.0
PRODID:-//ChamberMaster//Event Calendar 2.0//EN
METHOD:PUBLISH
X-PUBLISHED-TTL:P3D
REFRESH-INTERVAL:P3D
CALSCALE:GREGORIAN
BEGIN:VEVENT
DTSTART:20190825T140000Z
DTEND:20190825T180000Z
X-MICROSOFT-CDO-ALLDAYEVENT:FALSE
SUMMARY:Farmers Market Brooksville
DESCRIPTION:Sundays Only
X-ALT-DESC;FMTTYPE=text/html:Sundays Only
LOCATION:615 Old Hospital Lane Brooksville\, FL
UID:e.2235.25167
SEQUENCE:3
DTSTAMP:20260423T142521Z
URL:https://business.hernandochamber.com/events/details/farmers-market-brooksville-08-25-2019-25167
END:VEVENT

END:VCALENDAR
