BEGIN:VCALENDAR
VERSION:2.0
PRODID:-//ChamberMaster//Event Calendar 2.0//EN
METHOD:PUBLISH
X-PUBLISHED-TTL:P3D
REFRESH-INTERVAL:P3D
CALSCALE:GREGORIAN
BEGIN:VEVENT
DTSTART:20260425T150000Z
DTEND:20260425T170000Z
X-MICROSOFT-CDO-ALLDAYEVENT:FALSE
SUMMARY:Community Legal Services 60th Anniversary
DESCRIPTION:Since 1966\, Community Legal Services has stood for a simple but powerful idea: legal access for all. We are honoring this milestone by spending the year in the communities we serve\, and we invite you to join us. Throughout the year\, we are hosting gatherings in each of the 12 counties across Central Florida that reflect our shared commitment to justice. Our next anniversary event will take place in Hernando County\, and we would love to see members of the Hernando community there. Whether you have been involved with Community Legal Services for decades or are just getting to know us\, we hope you will join us.
X-ALT-DESC;FMTTYPE=text/html:Since 1966\, Community Legal Services has stood for a simple but powerful idea: legal access for all. We are honoring this milestone by spending the year in the communities we serve\, and we invite you to join us. Throughout the year\, we are hosting gatherings in each of the 12 counties across Central Florida that reflect our shared commitment to justice. Our next anniversary event will take place in Hernando County\, and we would love to see members of the Hernando community there. Whether you have been involved with Community Legal Services for decades or are just getting to know us\, we hope you will join us.
LOCATION:Anderson Snow Park 1360 Anderson Snow Rd Spring Hill\, FL 34609
UID:e.2235.37481
SEQUENCE:3
DTSTAMP:20260423T194558Z
URL:https://business.hernandochamber.com/events/details/community-legal-services-60th-anniversary-37481
END:VEVENT

END:VCALENDAR
