BEGIN:VCALENDAR
VERSION:2.0
PRODID:-//ChamberMaster//Event Calendar 2.0//EN
METHOD:PUBLISH
X-PUBLISHED-TTL:P3D
REFRESH-INTERVAL:P3D
CALSCALE:GREGORIAN
BEGIN:VEVENT
DTSTART;VALUE=DATE:20261111
DTEND;VALUE=DATE:20261112
TRANSP:TRANSPARENT
X-MICROSOFT-CDO-ALLDAYEVENT:TRUE
SUMMARY:CHAMBER CLOSED IN OBSERVANCE OF VETERANS DAY
DESCRIPTION:Chamber will be closed in observance of Veterans Day
X-ALT-DESC;FMTTYPE=text/html:Chamber will be closed in observance of Veterans Day
LOCATION:
UID:e.2235.37319
SEQUENCE:3
DTSTAMP:20260425T181644Z
URL:https://business.hernandochamber.com/events/details/chamber-closed-in-observance-of-veterans-day-37319
END:VEVENT

END:VCALENDAR
