BEGIN:VCALENDAR
VERSION:2.0
PRODID:-//ChamberMaster//Event Calendar 2.0//EN
METHOD:PUBLISH
X-PUBLISHED-TTL:P3D
REFRESH-INTERVAL:P3D
CALSCALE:GREGORIAN
BEGIN:VEVENT
DTSTART;VALUE=DATE:20261224
DTEND;VALUE=DATE:20261226
TRANSP:TRANSPARENT
X-MICROSOFT-CDO-ALLDAYEVENT:TRUE
SUMMARY:CHAMBER CLOSED FOR THE CHRISTMAS HOLIDAY
DESCRIPTION:Chamber will be closed on Thursday\, December 24 & Friday\, December 25\, 2026 for the Christmas holiday
X-ALT-DESC;FMTTYPE=text/html:Chamber will be closed on Thursday\, December 24 &amp\; Friday\, December 25\, 2026 for the Christmas holiday
LOCATION:
UID:e.2235.37321
SEQUENCE:3
DTSTAMP:20260425T195052Z
URL:https://business.hernandochamber.com/events/details/chamber-closed-for-the-christmas-holiday-37321
END:VEVENT

END:VCALENDAR
