BEGIN:VCALENDAR
VERSION:2.0
PRODID:-//ChamberMaster//Event Calendar 2.0//EN
METHOD:PUBLISH
X-PUBLISHED-TTL:P3D
REFRESH-INTERVAL:P3D
CALSCALE:GREGORIAN
BEGIN:VEVENT
DTSTART;VALUE=DATE:20261126
DTEND;VALUE=DATE:20261128
TRANSP:TRANSPARENT
X-MICROSOFT-CDO-ALLDAYEVENT:TRUE
SUMMARY:CHAMBER CLOSED FOR THANKSGIVING HOLIDAY
DESCRIPTION:Chamber will be closed Thursday\, November 26 & Friday\, November 27\, 2026 for the Thanksgiving Holiday
X-ALT-DESC;FMTTYPE=text/html:Chamber will be closed Thursday\, November 26 &amp\; Friday\, November 27\, 2026 for the Thanksgiving Holiday&nbsp\;
LOCATION:
UID:e.2235.37320
SEQUENCE:3
DTSTAMP:20260425T181516Z
URL:https://business.hernandochamber.com/events/details/chamber-closed-for-thanksgiving-holiday-37320
END:VEVENT

END:VCALENDAR
