BEGIN:VCALENDAR
VERSION:2.0
PRODID:-//ChamberMaster//Event Calendar 2.0//EN
METHOD:PUBLISH
X-PUBLISHED-TTL:P3D
REFRESH-INTERVAL:P3D
CALSCALE:GREGORIAN
BEGIN:VEVENT
DTSTART:20230323T120000Z
DTEND:20230323T140000Z
X-MICROSOFT-CDO-ALLDAYEVENT:FALSE
SUMMARY:CANCELLED Stay Interviews
DESCRIPTION:8:00 - 10:00 am\n\nThe Greater Hernando County Chamber of Commerce\n\n15588 Aviation Loop Drive
X-ALT-DESC;FMTTYPE=text/html:<p class="_04xlpA direction-ltr align-center para-style-body"><span class="S1PPyQ">8:00 - 10:00 am</span></p>\n\n<p class="_04xlpA direction-ltr align-center para-style-body"><span class="S1PPyQ">The Greater Hernando County Chamber of Commerce</span></p>\n\n<p class="_04xlpA direction-ltr align-center para-style-body"><span class="S1PPyQ">15588 Aviation Loop Drive</span></p>\n\n<p>&nbsp\;</p>\n
LOCATION:The Greater Hernando County Chamber of Commerce 15588 Aviation Loop Drive Brooksville
UID:e.2235.32649
SEQUENCE:3
DTSTAMP:20260425T134913Z
URL:https://business.hernandochamber.com/events/details/cancelled-stay-interviews-32649
END:VEVENT

END:VCALENDAR
