BEGIN:VCALENDAR
VERSION:2.0
PRODID:-//ChamberMaster//Event Calendar 2.0//EN
METHOD:PUBLISH
X-PUBLISHED-TTL:P3D
REFRESH-INTERVAL:P3D
CALSCALE:GREGORIAN
BEGIN:VEVENT
DTSTART:20240526T143000Z
DTEND:20240526T153000Z
X-MICROSOFT-CDO-ALLDAYEVENT:FALSE
SUMMARY:Burn & Brews - Marker 48 Pop-Up Camp
DESCRIPTION:Join Burn Boot Camp Spring Hill for an exclusive Sunday morning pop-up camp at Marker 48! Cost is $10 cash at the door and will include camp and one beverage after the workout! Open to the public!\n\n \n\nInvite your friends and family out to join you for an awesome workout and time with our Burn community!
X-ALT-DESC;FMTTYPE=text/html:<div>Join Burn Boot Camp Spring Hill for an exclusive Sunday morning pop-up camp at Marker 48! Cost is $10 cash at the door and will include camp and one beverage after the workout! Open to the public!<br />\n&nbsp\;</div>\n\n<div>Invite your friends and family out to join you for an awesome workout and time with our Burn community!</div>\n
LOCATION:Marker 48 Brewing 12147 Cortez Blvd\, Brooksville\, FL\, United States\, Florida
UID:e.2235.35278
SEQUENCE:3
DTSTAMP:20260420T083739Z
URL:https://business.hernandochamber.com/events/details/burn-brews-marker-48-pop-up-camp-35278
END:VEVENT

END:VCALENDAR
