BEGIN:VCALENDAR
VERSION:2.0
PRODID:-//ChamberMaster//Event Calendar 2.0//EN
METHOD:PUBLISH
X-PUBLISHED-TTL:P3D
REFRESH-INTERVAL:P3D
CALSCALE:GREGORIAN
BEGIN:VEVENT
DTSTART:20230201T123000Z
DTEND:20230201T140000Z
X-MICROSOFT-CDO-ALLDAYEVENT:FALSE
SUMMARY:BROOKSVILLE MATTERS
DESCRIPTION:Join community leaders as we network and learn about Brooksville Main Street and so much more!
X-ALT-DESC;FMTTYPE=text/html:Join community leaders as we network and learn about Brooksville Main Street and so much more!&nbsp\;&nbsp\;&nbsp\;&nbsp\;<br />\n<br />\n&nbsp\;
LOCATION:The Bistro
UID:e.2235.30181
SEQUENCE:3
DTSTAMP:20260422T112355Z
URL:https://business.hernandochamber.com/events/details/brooksville-matters-02-01-2023-30181
END:VEVENT

END:VCALENDAR
