BEGIN:VCALENDAR
VERSION:2.0
PRODID:-//ChamberMaster//Event Calendar 2.0//EN
METHOD:PUBLISH
X-PUBLISHED-TTL:P3D
REFRESH-INTERVAL:P3D
CALSCALE:GREGORIAN
BEGIN:VEVENT
DTSTART:20220816T160000Z
DTEND:20220816T170000Z
X-MICROSOFT-CDO-ALLDAYEVENT:FALSE
SUMMARY:B2B Weekly LIVE Networking
DESCRIPTION:B2B Weekly LIVE  Networking \n\nNew Keynote Speakers Each Week
X-ALT-DESC;FMTTYPE=text/html:<span style="font-size: 16px\; font-family: arial\;"><strong><span style="background-image: initial\; background-position: initial\; background-size: initial\; background-repeat: initial\; background-attachment: initial\; background-origin: initial\; background-clip: initial\;"><span style="color: blue\;">B</span>2</span></strong><strong><span style="background-image: initial\; background-position: initial\; background-size: initial\; background-repeat: initial\; background-attachment: initial\; background-origin: initial\; background-clip: initial\;"><span style="color: blue\;">B</span></span></strong></span><strong style="font-family: &quot\;comic sans ms&quot\;\; font-size: 16px\;"><span style="background-image: initial\; background-position: initial\; background-size: initial\; background-repeat: initial\; background-attachment: initial\; background-origin: initial\; background-clip: initial\;"><span style="font-family: arial\;">&nbsp\;Weekly LIVE&nbsp\; Networking</span>&nbsp\;</span></strong><br style="font-family: &quot\;comic sans ms&quot\;\; font-size: 16px\;" />\n<strong style="font-family: &quot\;comic sans ms&quot\;\; font-size: 16px\;">New Keynote Speakers Each Week</strong>
LOCATION:Legends At Silverthorn 4550 Golf Club Ln. Spring Hill\, FL. 34609 "WEEKLY NETWORKING" Our B2B for each month changes locations to help Hernando County restaurants and local business in our community.
UID:e.2235.30609
SEQUENCE:3
DTSTAMP:20260424T155152Z
URL:https://business.hernandochamber.com/events/details/b2b-weekly-live-networking-08-16-2022-30609
END:VEVENT

END:VCALENDAR
