BEGIN:VCALENDAR
VERSION:2.0
PRODID:-//ChamberMaster//Event Calendar 2.0//EN
METHOD:PUBLISH
X-PUBLISHED-TTL:P3D
REFRESH-INTERVAL:P3D
CALSCALE:GREGORIAN
BEGIN:VEVENT
DTSTART:20260327T233000Z
DTEND:20260405T180000Z
X-MICROSOFT-CDO-ALLDAYEVENT:FALSE
SUMMARY:1776 The Musical
DESCRIPTION:Stage West Playhouse proudly presents - 1776 The Musical. A stirring musical that brings to life the events leading up to the signing of the Declaration of Independence. This production celebrates the founding of the United States and the enduring principles of freedom and democracy.\nPerformance dates and times vary.  Check website and for tickets: stagewestplayhouse.org.
X-ALT-DESC;FMTTYPE=text/html:<span style="font-size:12px"><span style="font-family:arial\,helvetica\,sans-serif">Stage West Playhouse proudly presents - 1776 The Musical.&nbsp\;<span style="background-color:rgb(255\, 255\, 255)\; color:rgb(66\, 61\, 51)">A stirring musical that brings to life the events leading up to the signing of the Declaration of Independence. This production celebrates the founding of the United States and the enduring principles of freedom and democracy.</span></span></span>\n<div><span style="color:rgb(66\, 61\, 51)\; font-family:arial\,helvetica\,sans-serif\; font-size:12px">Performance dates and times vary.&nbsp\; Check website and for tickets: stagewestplayhouse.org.&nbsp\;</span></div>\n
LOCATION:Stage West Playhouse 8390 Forest Oaks Blvd Spring Hill\, FL 34606
UID:e.2235.37450
SEQUENCE:3
DTSTAMP:20260421T114011Z
URL:https://business.hernandochamber.com/events/details/1776-the-musical-37450
END:VEVENT

END:VCALENDAR
